Package: flowDensity Version: 1.36.1 Command: /Library/Frameworks/R.framework/Resources/bin/R CMD check --install=check:flowDensity.install-out.txt --library=/Library/Frameworks/R.framework/Resources/library --no-vignettes --timings flowDensity_1.36.1.tar.gz StartedAt: 2024-04-17 13:53:56 -0400 (Wed, 17 Apr 2024) EndedAt: 2024-04-17 13:55:05 -0400 (Wed, 17 Apr 2024) EllapsedTime: 68.7 seconds RetCode: 0 Status: WARNINGS CheckDir: flowDensity.Rcheck Warnings: 4