Package: flowPloidy Version: 1.28.0 Command: /Library/Frameworks/R.framework/Resources/bin/R CMD build --keep-empty-dirs --no-resave-data flowPloidy StartedAt: 2024-04-16 18:18:29 -0400 (Tue, 16 Apr 2024) EndedAt: 2024-04-16 18:19:12 -0400 (Tue, 16 Apr 2024) EllapsedTime: 42.6 seconds RetCode: 0 Status: OK PackageFile: flowPloidy_1.28.0.tar.gz PackageFileSize: 2.334 MiB