Package: gDRimport Version: 1.0.0 Command: /Library/Frameworks/R.framework/Resources/bin/R CMD INSTALL gDRimport StartedAt: 2024-04-16 12:36:57 -0400 (Tue, 16 Apr 2024) EndedAt: 2024-04-16 12:37:27 -0400 (Tue, 16 Apr 2024) EllapsedTime: 30.5 seconds RetCode: 0 Status: OK