Package: gcapc Version: 1.26.0 Command: /Library/Frameworks/R.framework/Resources/bin/R CMD build --keep-empty-dirs --no-resave-data gcapc StartedAt: 2024-04-16 18:29:48 -0400 (Tue, 16 Apr 2024) EndedAt: 2024-04-16 18:33:48 -0400 (Tue, 16 Apr 2024) EllapsedTime: 240.0 seconds RetCode: 0 Status: OK PackageFile: gcapc_1.26.0.tar.gz PackageFileSize: 3.791 MiB