Package: gcapc Version: 1.26.0 Command: /Library/Frameworks/R.framework/Resources/bin/R CMD check --install=check:gcapc.install-out.txt --library=/Library/Frameworks/R.framework/Resources/library --no-vignettes --timings gcapc_1.26.0.tar.gz StartedAt: 2024-04-17 14:15:49 -0400 (Wed, 17 Apr 2024) EndedAt: 2024-04-17 14:23:16 -0400 (Wed, 17 Apr 2024) EllapsedTime: 447.1 seconds RetCode: 0 Status: OK CheckDir: gcapc.Rcheck Warnings: 0