Package: gcapc Version: 1.26.0 Command: /Library/Frameworks/R.framework/Resources/bin/R CMD INSTALL gcapc StartedAt: 2024-04-16 10:52:13 -0400 (Tue, 16 Apr 2024) EndedAt: 2024-04-16 10:52:55 -0400 (Tue, 16 Apr 2024) EllapsedTime: 41.8 seconds RetCode: 0 Status: OK