Package: gcrma Version: 2.74.0 Command: /Library/Frameworks/R.framework/Resources/bin/R CMD check --install=check:gcrma.install-out.txt --library=/Library/Frameworks/R.framework/Resources/library --no-vignettes --timings gcrma_2.74.0.tar.gz StartedAt: 2024-04-17 14:16:40 -0400 (Wed, 17 Apr 2024) EndedAt: 2024-04-17 14:18:44 -0400 (Wed, 17 Apr 2024) EllapsedTime: 123.8 seconds RetCode: 0 Status: OK CheckDir: gcrma.Rcheck Warnings: 0