Package: genefu Version: 2.34.0 Command: /Library/Frameworks/R.framework/Resources/bin/R CMD build --keep-empty-dirs --no-resave-data genefu StartedAt: 2024-04-16 18:39:52 -0400 (Tue, 16 Apr 2024) EndedAt: 2024-04-16 18:41:35 -0400 (Tue, 16 Apr 2024) EllapsedTime: 102.7 seconds RetCode: 0 Status: OK PackageFile: genefu_2.34.0.tar.gz PackageFileSize: 4.891 MiB