Package: girafe Version: 1.54.0 Command: /Library/Frameworks/R.framework/Resources/bin/R CMD build --keep-empty-dirs --no-resave-data girafe StartedAt: 2024-04-16 19:01:12 -0400 (Tue, 16 Apr 2024) EndedAt: 2024-04-16 19:02:33 -0400 (Tue, 16 Apr 2024) EllapsedTime: 81.2 seconds RetCode: 0 Status: OK PackageFile: girafe_1.54.0.tar.gz PackageFileSize: 1.54 MiB