Package: gmapR Version: 1.44.0 Maintainer: Michael Lawrence MaintainerEmail: michafla at gene.com git_url: https://git.bioconductor.org/packages/gmapR git_branch: RELEASE_3_18 git_last_commit: 5a7a726 git_last_commit_date: 2024-01-18 16:27:39 -0400 (Thu, 18 Jan 2024)