Package: gmapR Version: 1.44.0 Command: /Library/Frameworks/R.framework/Resources/bin/R CMD check --install=check:gmapR.install-out.txt --library=/Library/Frameworks/R.framework/Resources/library --no-vignettes --timings gmapR_1.44.0.tar.gz StartedAt: 2024-04-17 15:20:47 -0400 (Wed, 17 Apr 2024) EndedAt: 2024-04-17 15:29:26 -0400 (Wed, 17 Apr 2024) EllapsedTime: 518.4 seconds RetCode: 0 Status: WARNINGS CheckDir: gmapR.Rcheck Warnings: 7