Package: gmapR Version: 1.44.0 Command: /Library/Frameworks/R.framework/Resources/bin/R CMD INSTALL gmapR StartedAt: 2024-04-16 11:12:07 -0400 (Tue, 16 Apr 2024) EndedAt: 2024-04-16 11:19:16 -0400 (Tue, 16 Apr 2024) EllapsedTime: 429.0 seconds RetCode: 0 Status: OK