Package: granulator Version: 1.10.0 Command: rm -rf granulator.buildbin-libdir && mkdir granulator.buildbin-libdir && /Users/biocbuild/BBS/utils/build-universal.sh granulator_1.10.0.tar.gz /Library/Frameworks/R.framework/Resources/bin/R granulator.buildbin-libdir StartedAt: 2024-04-18 09:34:29 -0400 (Thu, 18 Apr 2024) EndedAt: 2024-04-18 09:34:48 -0400 (Thu, 18 Apr 2024) EllapsedTime: 19.2 seconds RetCode: 0 Status: OK PackageFile: granulator_1.10.0.tgz PackageFileSize: 1.372 MiB