Package: granulator Version: 1.10.0 Command: /Library/Frameworks/R.framework/Resources/bin/R CMD INSTALL granulator StartedAt: 2024-04-16 11:53:07 -0400 (Tue, 16 Apr 2024) EndedAt: 2024-04-16 11:53:22 -0400 (Tue, 16 Apr 2024) EllapsedTime: 15.1 seconds RetCode: 0 Status: OK