Package: gwasurvivr Version: 1.20.0 Command: rm -rf gwasurvivr.buildbin-libdir && mkdir gwasurvivr.buildbin-libdir && /Users/biocbuild/BBS/utils/build-universal.sh gwasurvivr_1.20.0.tar.gz /Library/Frameworks/R.framework/Resources/bin/R gwasurvivr.buildbin-libdir StartedAt: 2024-04-18 09:37:33 -0400 (Thu, 18 Apr 2024) EndedAt: 2024-04-18 09:38:46 -0400 (Thu, 18 Apr 2024) EllapsedTime: 72.9 seconds RetCode: 0 Status: OK PackageFile: gwasurvivr_1.20.0.tgz PackageFileSize: 410 KiB