Package: hopach Version: 2.62.0 Command: rm -rf hopach.buildbin-libdir && mkdir hopach.buildbin-libdir && /Users/biocbuild/BBS/utils/build-universal.sh hopach_2.62.0.tar.gz /Library/Frameworks/R.framework/Resources/bin/R hopach.buildbin-libdir StartedAt: 2024-04-18 09:41:37 -0400 (Thu, 18 Apr 2024) EndedAt: 2024-04-18 09:41:50 -0400 (Thu, 18 Apr 2024) EllapsedTime: 12.7 seconds RetCode: 0 Status: OK PackageFile: hopach_2.62.0.tgz PackageFileSize: 1.068 MiB