Package: iChip Version: 1.56.0 Command: rm -rf iChip.buildbin-libdir && mkdir iChip.buildbin-libdir && /Users/biocbuild/BBS/utils/build-universal.sh iChip_1.56.0.tar.gz /Library/Frameworks/R.framework/Resources/bin/R iChip.buildbin-libdir StartedAt: 2024-04-18 09:42:51 -0400 (Thu, 18 Apr 2024) EndedAt: 2024-04-18 09:42:59 -0400 (Thu, 18 Apr 2024) EllapsedTime: 8.1 seconds RetCode: 0 Status: OK PackageFile: iChip_1.56.0.tgz PackageFileSize: 1.935 MiB