Package: iChip Version: 1.56.0 Command: /Library/Frameworks/R.framework/Resources/bin/R CMD build --keep-empty-dirs --no-resave-data iChip StartedAt: 2024-04-16 20:09:33 -0400 (Tue, 16 Apr 2024) EndedAt: 2024-04-16 20:10:46 -0400 (Tue, 16 Apr 2024) EllapsedTime: 72.8 seconds RetCode: 0 Status: OK PackageFile: iChip_1.56.0.tar.gz PackageFileSize: 1.708 MiB