Package: iChip Version: 1.56.0 Command: /Library/Frameworks/R.framework/Resources/bin/R CMD check --install=check:iChip.install-out.txt --library=/Library/Frameworks/R.framework/Resources/library --no-vignettes --timings iChip_1.56.0.tar.gz StartedAt: 2024-04-17 16:38:54 -0400 (Wed, 17 Apr 2024) EndedAt: 2024-04-17 16:39:36 -0400 (Wed, 17 Apr 2024) EllapsedTime: 42.4 seconds RetCode: 0 Status: WARNINGS CheckDir: iChip.Rcheck Warnings: 1