Package: iClusterPlus Version: 1.38.0 Command: /Library/Frameworks/R.framework/Resources/bin/R CMD check --install=check:iClusterPlus.install-out.txt --library=/Library/Frameworks/R.framework/Resources/library --no-vignettes --timings iClusterPlus_1.38.0.tar.gz StartedAt: 2024-04-17 16:38:57 -0400 (Wed, 17 Apr 2024) EndedAt: 2024-04-17 16:40:40 -0400 (Wed, 17 Apr 2024) EllapsedTime: 103.3 seconds RetCode: 0 Status: OK CheckDir: iClusterPlus.Rcheck Warnings: 0