Package: iPAC Version: 1.46.0 Command: rm -rf iPAC.buildbin-libdir && mkdir iPAC.buildbin-libdir && /Users/biocbuild/BBS/utils/build-universal.sh iPAC_1.46.0.tar.gz /Library/Frameworks/R.framework/Resources/bin/R iPAC.buildbin-libdir StartedAt: 2024-04-18 09:47:44 -0400 (Thu, 18 Apr 2024) EndedAt: 2024-04-18 09:48:06 -0400 (Thu, 18 Apr 2024) EllapsedTime: 23.0 seconds RetCode: 0 Status: OK PackageFile: iPAC_1.46.0.tgz PackageFileSize: 559.1 KiB