Package: iPath Version: 1.8.0 Command: rm -rf iPath.buildbin-libdir && mkdir iPath.buildbin-libdir && /Users/biocbuild/BBS/utils/build-universal.sh iPath_1.8.0.tar.gz /Library/Frameworks/R.framework/Resources/bin/R iPath.buildbin-libdir StartedAt: 2024-04-18 09:47:46 -0400 (Thu, 18 Apr 2024) EndedAt: 2024-04-18 09:48:17 -0400 (Thu, 18 Apr 2024) EllapsedTime: 30.8 seconds RetCode: 0 Status: OK PackageFile: iPath_1.8.0.tgz PackageFileSize: 3.056 MiB