Package: iSEEhex Version: 1.4.0 Command: /Library/Frameworks/R.framework/Resources/bin/R CMD build --keep-empty-dirs --no-resave-data iSEEhex StartedAt: 2024-04-16 20:31:31 -0400 (Tue, 16 Apr 2024) EndedAt: 2024-04-16 20:32:55 -0400 (Tue, 16 Apr 2024) EllapsedTime: 83.4 seconds RetCode: 0 Status: OK PackageFile: iSEEhex_1.4.0.tar.gz PackageFileSize: 486.3 KiB