Package: immunoClust Version: 1.34.0 Command: /Library/Frameworks/R.framework/Resources/bin/R CMD check --install=check:immunoClust.install-out.txt --library=/Library/Frameworks/R.framework/Resources/library --no-vignettes --timings immunoClust_1.34.0.tar.gz StartedAt: 2024-04-17 16:53:42 -0400 (Wed, 17 Apr 2024) EndedAt: 2024-04-17 16:57:18 -0400 (Wed, 17 Apr 2024) EllapsedTime: 215.9 seconds RetCode: 0 Status: OK CheckDir: immunoClust.Rcheck Warnings: 0