Package: intansv Version: 1.42.0 Command: rm -rf intansv.buildbin-libdir && mkdir intansv.buildbin-libdir && /Users/biocbuild/BBS/utils/build-universal.sh intansv_1.42.0.tar.gz /Library/Frameworks/R.framework/Resources/bin/R intansv.buildbin-libdir StartedAt: 2024-04-18 09:46:24 -0400 (Thu, 18 Apr 2024) EndedAt: 2024-04-18 09:47:44 -0400 (Thu, 18 Apr 2024) EllapsedTime: 79.9 seconds RetCode: 0 Status: OK PackageFile: intansv_1.42.0.tgz PackageFileSize: 708.9 KiB