Package: intansv Version: 1.42.0 Command: /Library/Frameworks/R.framework/Resources/bin/R CMD build --keep-empty-dirs --no-resave-data intansv StartedAt: 2024-04-16 20:24:11 -0400 (Tue, 16 Apr 2024) EndedAt: 2024-04-16 20:26:08 -0400 (Tue, 16 Apr 2024) EllapsedTime: 116.8 seconds RetCode: 0 Status: OK PackageFile: intansv_1.42.0.tar.gz PackageFileSize: 614.2 KiB