Package: intansv Version: 1.42.0 Command: /Library/Frameworks/R.framework/Resources/bin/R CMD INSTALL intansv StartedAt: 2024-04-16 11:41:58 -0400 (Tue, 16 Apr 2024) EndedAt: 2024-04-16 11:43:03 -0400 (Tue, 16 Apr 2024) EllapsedTime: 64.5 seconds RetCode: 0 Status: OK