Package: iterClust Version: 1.24.0 Command: /Library/Frameworks/R.framework/Resources/bin/R CMD build --keep-empty-dirs --no-resave-data iterClust StartedAt: 2024-04-16 20:39:10 -0400 (Tue, 16 Apr 2024) EndedAt: 2024-04-16 20:39:48 -0400 (Tue, 16 Apr 2024) EllapsedTime: 38.0 seconds RetCode: 0 Status: OK PackageFile: iterClust_1.24.0.tar.gz PackageFileSize: 115.9 KiB