Package: iterativeBMA Version: 1.60.0 Command: rm -rf iterativeBMA.buildbin-libdir && mkdir iterativeBMA.buildbin-libdir && /Users/biocbuild/BBS/utils/build-universal.sh iterativeBMA_1.60.0.tar.gz /Library/Frameworks/R.framework/Resources/bin/R iterativeBMA.buildbin-libdir StartedAt: 2024-04-18 09:50:00 -0400 (Thu, 18 Apr 2024) EndedAt: 2024-04-18 09:50:12 -0400 (Thu, 18 Apr 2024) EllapsedTime: 12.7 seconds RetCode: 0 Status: OK PackageFile: iterativeBMA_1.60.0.tgz PackageFileSize: 213.6 KiB