Package: iterativeBMA Version: 1.60.0 Command: /Library/Frameworks/R.framework/Resources/bin/R CMD INSTALL iterativeBMA StartedAt: 2024-04-16 11:52:52 -0400 (Tue, 16 Apr 2024) EndedAt: 2024-04-16 11:53:02 -0400 (Tue, 16 Apr 2024) EllapsedTime: 9.2 seconds RetCode: 0 Status: OK