Package: ivygapSE Version: 1.24.0 Command: rm -rf ivygapSE.buildbin-libdir && mkdir ivygapSE.buildbin-libdir && /Users/biocbuild/BBS/utils/build-universal.sh ivygapSE_1.24.0.tar.gz /Library/Frameworks/R.framework/Resources/bin/R ivygapSE.buildbin-libdir StartedAt: 2024-04-18 09:50:12 -0400 (Thu, 18 Apr 2024) EndedAt: 2024-04-18 09:50:51 -0400 (Thu, 18 Apr 2024) EllapsedTime: 39.0 seconds RetCode: 0 Status: OK PackageFile: ivygapSE_1.24.0.tgz PackageFileSize: 15.37 MiB