Package: ivygapSE Version: 1.24.0 Command: /Library/Frameworks/R.framework/Resources/bin/R CMD build --keep-empty-dirs --no-resave-data ivygapSE StartedAt: 2024-04-16 20:39:27 -0400 (Tue, 16 Apr 2024) EndedAt: 2024-04-16 20:42:10 -0400 (Tue, 16 Apr 2024) EllapsedTime: 162.4 seconds RetCode: 0 Status: OK PackageFile: ivygapSE_1.24.0.tar.gz PackageFileSize: 15.35 MiB