Package: limma Version: 3.58.1 Command: /Library/Frameworks/R.framework/Resources/bin/R CMD INSTALL limma StartedAt: 2024-04-16 10:10:51 -0400 (Tue, 16 Apr 2024) EndedAt: 2024-04-16 10:11:09 -0400 (Tue, 16 Apr 2024) EllapsedTime: 17.3 seconds RetCode: 0 Status: OK