Package: loci2path Version: 1.22.0 Command: /Library/Frameworks/R.framework/Resources/bin/R CMD build --keep-empty-dirs --no-resave-data loci2path StartedAt: 2024-04-16 20:51:26 -0400 (Tue, 16 Apr 2024) EndedAt: 2024-04-16 20:51:52 -0400 (Tue, 16 Apr 2024) EllapsedTime: 26.0 seconds RetCode: 0 Status: OK PackageFile: loci2path_1.22.0.tar.gz PackageFileSize: 609.4 KiB