Package: maPredictDSC Version: 1.40.0 Command: /Library/Frameworks/R.framework/Resources/bin/R CMD build --keep-empty-dirs --no-resave-data maPredictDSC StartedAt: 2024-04-16 21:01:54 -0400 (Tue, 16 Apr 2024) EndedAt: 2024-04-16 21:03:49 -0400 (Tue, 16 Apr 2024) EllapsedTime: 114.5 seconds RetCode: 0 Status: OK PackageFile: maPredictDSC_1.40.0.tar.gz PackageFileSize: 196.9 KiB