Package: massiR Version: 1.38.0 Command: /Library/Frameworks/R.framework/Resources/bin/R CMD build --keep-empty-dirs --no-resave-data massiR StartedAt: 2024-04-16 21:04:56 -0400 (Tue, 16 Apr 2024) EndedAt: 2024-04-16 21:05:08 -0400 (Tue, 16 Apr 2024) EllapsedTime: 12.4 seconds RetCode: 0 Status: OK PackageFile: massiR_1.38.0.tar.gz PackageFileSize: 1.115 MiB