Package: mastR Version: 1.2.3 Command: rm -rf mastR.buildbin-libdir && mkdir mastR.buildbin-libdir && /Users/biocbuild/BBS/utils/build-universal.sh mastR_1.2.3.tar.gz /Library/Frameworks/R.framework/Resources/bin/R mastR.buildbin-libdir StartedAt: 2024-04-18 09:57:12 -0400 (Thu, 18 Apr 2024) EndedAt: 2024-04-18 09:58:17 -0400 (Thu, 18 Apr 2024) EllapsedTime: 64.8 seconds RetCode: 0 Status: OK PackageFile: mastR_1.2.3.tgz PackageFileSize: 3.292 MiB