Package: mastR Version: 1.2.3 Command: /Library/Frameworks/R.framework/Resources/bin/R CMD build --keep-empty-dirs --no-resave-data mastR StartedAt: 2024-04-16 21:05:16 -0400 (Tue, 16 Apr 2024) EndedAt: 2024-04-16 21:08:07 -0400 (Tue, 16 Apr 2024) EllapsedTime: 170.3 seconds RetCode: 0 Status: OK PackageFile: mastR_1.2.3.tar.gz PackageFileSize: 3.102 MiB