Package: mastR Version: 1.2.3 Command: /Library/Frameworks/R.framework/Resources/bin/R CMD check --install=check:mastR.install-out.txt --library=/Library/Frameworks/R.framework/Resources/library --no-vignettes --timings mastR_1.2.3.tar.gz StartedAt: 2024-04-17 18:19:29 -0400 (Wed, 17 Apr 2024) EndedAt: 2024-04-17 18:31:26 -0400 (Wed, 17 Apr 2024) EllapsedTime: 716.6 seconds RetCode: 0 Status: OK CheckDir: mastR.Rcheck Warnings: 0