Package: mbQTL Version: 1.2.0 Command: /Library/Frameworks/R.framework/Resources/bin/R CMD check --install=check:mbQTL.install-out.txt --library=/Library/Frameworks/R.framework/Resources/library --no-vignettes --timings mbQTL_1.2.0.tar.gz StartedAt: 2024-04-17 18:27:00 -0400 (Wed, 17 Apr 2024) EndedAt: 2024-04-17 18:28:40 -0400 (Wed, 17 Apr 2024) EllapsedTime: 99.9 seconds RetCode: 0 Status: OK CheckDir: mbQTL.Rcheck Warnings: 0