Package: megadepth Version: 1.12.0 Command: /Library/Frameworks/R.framework/Resources/bin/R CMD INSTALL megadepth StartedAt: 2024-04-16 11:51:51 -0400 (Tue, 16 Apr 2024) EndedAt: 2024-04-16 11:52:05 -0400 (Tue, 16 Apr 2024) EllapsedTime: 14.5 seconds RetCode: 0 Status: OK