Package: meshr Version: 2.8.0 Command: /Library/Frameworks/R.framework/Resources/bin/R CMD INSTALL meshr StartedAt: 2024-04-16 12:08:16 -0400 (Tue, 16 Apr 2024) EndedAt: 2024-04-16 12:08:44 -0400 (Tue, 16 Apr 2024) EllapsedTime: 27.5 seconds RetCode: 0 Status: OK