Package: metabinR Version: 1.4.0 Command: /Library/Frameworks/R.framework/Resources/bin/R CMD INSTALL metabinR StartedAt: 2024-04-16 10:10:47 -0400 (Tue, 16 Apr 2024) EndedAt: 2024-04-16 10:10:50 -0400 (Tue, 16 Apr 2024) EllapsedTime: 2.9 seconds RetCode: 0 Status: OK