Package: methylInheritance Version: 1.26.0 Command: /Library/Frameworks/R.framework/Resources/bin/R CMD build --keep-empty-dirs --no-resave-data methylInheritance StartedAt: 2024-04-16 21:36:01 -0400 (Tue, 16 Apr 2024) EndedAt: 2024-04-16 21:37:40 -0400 (Tue, 16 Apr 2024) EllapsedTime: 98.9 seconds RetCode: 0 Status: OK PackageFile: methylInheritance_1.26.0.tar.gz PackageFileSize: 1.708 MiB