Package: methylPipe Version: 1.36.0 Command: rm -rf methylPipe.buildbin-libdir && mkdir methylPipe.buildbin-libdir && /Users/biocbuild/BBS/utils/build-universal.sh methylPipe_1.36.0.tar.gz /Library/Frameworks/R.framework/Resources/bin/R methylPipe.buildbin-libdir StartedAt: 2024-04-18 10:04:33 -0400 (Thu, 18 Apr 2024) EndedAt: 2024-04-18 10:05:56 -0400 (Thu, 18 Apr 2024) EllapsedTime: 82.7 seconds RetCode: 0 Status: OK PackageFile: methylPipe_1.36.0.tgz PackageFileSize: 1.281 MiB