Package: methylPipe Version: 1.36.0 Command: /Library/Frameworks/R.framework/Resources/bin/R CMD check --install=check:methylPipe.install-out.txt --library=/Library/Frameworks/R.framework/Resources/library --no-vignettes --timings methylPipe_1.36.0.tar.gz StartedAt: 2024-04-17 19:11:29 -0400 (Wed, 17 Apr 2024) EndedAt: 2024-04-17 19:20:40 -0400 (Wed, 17 Apr 2024) EllapsedTime: 550.1 seconds RetCode: 0 Status: WARNINGS CheckDir: methylPipe.Rcheck Warnings: 2