Package: methylscaper Version: 1.10.0 Command: /Library/Frameworks/R.framework/Resources/bin/R CMD build --keep-empty-dirs --no-resave-data methylscaper StartedAt: 2024-04-16 21:38:21 -0400 (Tue, 16 Apr 2024) EndedAt: 2024-04-16 21:40:00 -0400 (Tue, 16 Apr 2024) EllapsedTime: 99.2 seconds RetCode: 0 Status: OK PackageFile: methylscaper_1.10.0.tar.gz PackageFileSize: 4.034 MiB