Package: methylscaper Version: 1.10.0 Command: /Library/Frameworks/R.framework/Resources/bin/R CMD check --install=check:methylscaper.install-out.txt --library=/Library/Frameworks/R.framework/Resources/library --no-vignettes --timings methylscaper_1.10.0.tar.gz StartedAt: 2024-04-17 19:11:51 -0400 (Wed, 17 Apr 2024) EndedAt: 2024-04-17 19:15:29 -0400 (Wed, 17 Apr 2024) EllapsedTime: 218.3 seconds RetCode: 0 Status: OK CheckDir: methylscaper.Rcheck Warnings: 0