Package: miQC Version: 1.10.0 Command: /Library/Frameworks/R.framework/Resources/bin/R CMD build --keep-empty-dirs --no-resave-data miQC StartedAt: 2024-04-16 21:50:25 -0400 (Tue, 16 Apr 2024) EndedAt: 2024-04-16 21:52:32 -0400 (Tue, 16 Apr 2024) EllapsedTime: 127.1 seconds RetCode: 0 Status: OK PackageFile: miQC_1.10.0.tar.gz PackageFileSize: 3.08 MiB