Package: miQC Version: 1.10.0 Command: /Library/Frameworks/R.framework/Resources/bin/R CMD check --install=check:miQC.install-out.txt --library=/Library/Frameworks/R.framework/Resources/library --no-vignettes --timings miQC_1.10.0.tar.gz StartedAt: 2024-04-17 19:39:07 -0400 (Wed, 17 Apr 2024) EndedAt: 2024-04-17 19:44:12 -0400 (Wed, 17 Apr 2024) EllapsedTime: 304.4 seconds RetCode: 0 Status: OK CheckDir: miQC.Rcheck Warnings: 0